BEGIN:VCALENDAR
VERSION:2.0
PRODID:-//BHAA - ECPv6.15.20//NONSGML v1.0//EN
CALSCALE:GREGORIAN
METHOD:PUBLISH
X-ORIGINAL-URL:https://bhaa.org.uk
X-WR-CALDESC:Events for BHAA
REFRESH-INTERVAL;VALUE=DURATION:PT1H
X-Robots-Tag:noindex
X-PUBLISHED-TTL:PT1H
BEGIN:VTIMEZONE
TZID:UTC
BEGIN:STANDARD
TZOFFSETFROM:+0000
TZOFFSETTO:+0000
TZNAME:UTC
DTSTART:20210101T000000
END:STANDARD
END:VTIMEZONE
BEGIN:VEVENT
DTSTART;TZID=UTC:20220919T090000
DTEND;TZID=UTC:20220920T170000
DTSTAMP:20260423T235347
CREATED:20220503T153249Z
LAST-MODIFIED:20220503T153252Z
UID:15027-1663578000-1663693200@bhaa.org.uk
SUMMARY:IHAA Grading at KoME
DESCRIPTION:2 days of IHAA grading sessions: practice in the morning & grading in the afternoonMonday: Tower 90 trackTuesday: Raid 2-3-3 trackMax 8 people (riding in 2 groups of 4)FULLY BOOKED – please email the BHAA if you would like to be put on the waiting list with subject “FAO Becca Sweetman”
URL:https://bhaa.org.uk/event/ihaa-grading-at-kome/
LOCATION:The Knights of Middle England and KOME Entertainment\, Guys Cliffe\, Coventry Road\,\, Warwick\, CV34 5YD\, United Kingdom
END:VEVENT
END:VCALENDAR