BEGIN:VCALENDAR
VERSION:2.0
PRODID:-//BHAA - ECPv6.15.20//NONSGML v1.0//EN
CALSCALE:GREGORIAN
METHOD:PUBLISH
X-WR-CALNAME:BHAA
X-ORIGINAL-URL:https://bhaa.org.uk
X-WR-CALDESC:Events for BHAA
REFRESH-INTERVAL;VALUE=DURATION:PT1H
X-Robots-Tag:noindex
X-PUBLISHED-TTL:PT1H
BEGIN:VTIMEZONE
TZID:UTC
BEGIN:STANDARD
TZOFFSETFROM:+0000
TZOFFSETTO:+0000
TZNAME:UTC
DTSTART:20210101T000000
END:STANDARD
END:VTIMEZONE
BEGIN:VEVENT
DTSTART;TZID=UTC:20220408T090000
DTEND;TZID=UTC:20220409T170000
DTSTAMP:20260424T092300
CREATED:20220228T131828Z
LAST-MODIFIED:20220331T200221Z
UID:2366-1649408400-1649523600@bhaa.org.uk
SUMMARY:Coaches training camp
DESCRIPTION:Coach: Simon Harding\, Advanced CoachTraining camp for those interested in their Club Coach or Intermediate Coach qualification. The group will include a mix of more experienced coaches who are aiming for their Intermediate qualification and a group of those who are interested in becoming a coach\, who will use it as a part of their training\, with the potential for those that are ready being signed off as a Club Coach.The BHAA would like to extend considerable thanks to the Knights of Middle England for their support in providing the facilities and horses for this training camp.If you haven’t already done so\, please contact Becca (becca.sweetman@gmail.com) before signing up to confirm there are still spaces available.
URL:https://bhaa.org.uk/event/coaches-training-camp/
LOCATION:The Knights of Middle England and KOME Entertainment\, Guys Cliffe\, Coventry Road\,\, Warwick\, CV34 5YD\, United Kingdom
END:VEVENT
END:VCALENDAR