BEGIN:VCALENDAR
VERSION:2.0
PRODID:-//BHAA - ECPv6.15.20//NONSGML v1.0//EN
CALSCALE:GREGORIAN
METHOD:PUBLISH
X-ORIGINAL-URL:https://bhaa.org.uk
X-WR-CALDESC:Events for BHAA
REFRESH-INTERVAL;VALUE=DURATION:PT1H
X-Robots-Tag:noindex
X-PUBLISHED-TTL:PT1H
BEGIN:VTIMEZONE
TZID:UTC
BEGIN:STANDARD
TZOFFSETFROM:+0000
TZOFFSETTO:+0000
TZNAME:UTC
DTSTART:20230101T000000
END:STANDARD
END:VTIMEZONE
BEGIN:VEVENT
DTSTART;TZID=UTC:20240415T090000
DTEND;TZID=UTC:20240417T170000
DTSTAMP:20260422T203459
CREATED:20231221T141736Z
LAST-MODIFIED:20240116T153410Z
UID:114002-1713171600-1713373200@bhaa.org.uk
SUMMARY:Christoph Coaches Camp
DESCRIPTION:We’re bringing in a world class coach to help raise the standard of coaching in the UK.  \n\n\n\nApplications took place in December and all spaces have been filled.  \n\n\n\nIf you didn’t apply and you’d like to be added to the waiting list then please email the BHAA.
URL:https://bhaa.org.uk/event/christoph-coaches-camp/
LOCATION:The Knights of Middle England and KOME Entertainment\, Guys Cliffe\, Coventry Road\,\, Warwick\, CV34 5YD\, United Kingdom
END:VEVENT
END:VCALENDAR