BEGIN:VCALENDAR
VERSION:2.0
PRODID:-//BHAA - ECPv6.15.20//NONSGML v1.0//EN
CALSCALE:GREGORIAN
METHOD:PUBLISH
X-ORIGINAL-URL:https://bhaa.org.uk
X-WR-CALDESC:Events for BHAA
REFRESH-INTERVAL;VALUE=DURATION:PT1H
X-Robots-Tag:noindex
X-PUBLISHED-TTL:PT1H
BEGIN:VTIMEZONE
TZID:UTC
BEGIN:STANDARD
TZOFFSETFROM:+0000
TZOFFSETTO:+0000
TZNAME:UTC
DTSTART:20220101T000000
END:STANDARD
END:VTIMEZONE
BEGIN:VEVENT
DTSTART;TZID=UTC:20230728T093000
DTEND;TZID=UTC:20230730T150000
DTSTAMP:20260423T091053
CREATED:20230212T184640Z
LAST-MODIFIED:20230212T184643Z
UID:62373-1690536600-1690729200@bhaa.org.uk
SUMMARY:National Championships
DESCRIPTION:Friday 28th JulyWe are planning to run a practice and training day on Friday for competitors before the Nationals\, this is mandatory on safety grounds for all competitors. It means the horse can settle into the environment.  \n\n\n\nSaturday 29th and Sunday 28th July \n\n\n\n\nRaid 233 competition\,\n\n\n\nTower 90\n\n\n\n4 run Skirmish.
URL:https://bhaa.org.uk/event/national-championships/
LOCATION:New Leaf Triangle\, Goadby Marwood\, Melton Mowbray\, LE14 4LP\, United Kingdom
ORGANIZER;CN="BHAA":MAILTO:britishhorsebackarchery@gmail.com
END:VEVENT
END:VCALENDAR