BEGIN:VCALENDAR
VERSION:2.0
PRODID:-//BHAA - ECPv6.15.20//NONSGML v1.0//EN
CALSCALE:GREGORIAN
METHOD:PUBLISH
X-ORIGINAL-URL:https://bhaa.org.uk
X-WR-CALDESC:Events for BHAA
REFRESH-INTERVAL;VALUE=DURATION:PT1H
X-Robots-Tag:noindex
X-PUBLISHED-TTL:PT1H
BEGIN:VTIMEZONE
TZID:UTC
BEGIN:STANDARD
TZOFFSETFROM:+0000
TZOFFSETTO:+0000
TZNAME:UTC
DTSTART:20220101T000000
END:STANDARD
END:VTIMEZONE
BEGIN:VEVENT
DTSTART;TZID=UTC:20230403T090000
DTEND;TZID=UTC:20230404T170000
DTSTAMP:20260423T132311
CREATED:20230109T135335Z
LAST-MODIFIED:20230109T162157Z
UID:56695-1680512400-1680627600@bhaa.org.uk
SUMMARY:Christoph Nemethy Riders Camp
DESCRIPTION:Fully booked: please contact Becca Sweetman via the BHAA if you’d like to be added to the waiting list
URL:https://bhaa.org.uk/event/christoph-nemethy-riders-camp/
LOCATION:The Knights of Middle England and KOME Entertainment\, Guys Cliffe\, Coventry Road\,\, Warwick\, CV34 5YD\, United Kingdom
END:VEVENT
END:VCALENDAR