BEGIN:VCALENDAR
VERSION:2.0
PRODID:-//BHAA - ECPv6.15.20//NONSGML v1.0//EN
CALSCALE:GREGORIAN
METHOD:PUBLISH
X-WR-CALNAME:BHAA
X-ORIGINAL-URL:https://bhaa.org.uk
X-WR-CALDESC:Events for BHAA
REFRESH-INTERVAL;VALUE=DURATION:PT1H
X-Robots-Tag:noindex
X-PUBLISHED-TTL:PT1H
BEGIN:VTIMEZONE
TZID:UTC
BEGIN:STANDARD
TZOFFSETFROM:+0000
TZOFFSETTO:+0000
TZNAME:UTC
DTSTART:20210101T000000
END:STANDARD
END:VTIMEZONE
BEGIN:VEVENT
DTSTART;TZID=UTC:20220804T100000
DTEND;TZID=UTC:20220806T170000
DTSTAMP:20260424T062508
CREATED:20211118T194455Z
LAST-MODIFIED:20220725T181258Z
UID:439-1659607200-1659805200@bhaa.org.uk
SUMMARY:Junior & Young Rider National Championships
DESCRIPTION:National Championships Junior and Young Rider as defined in the IHAA rules below \n\n\n\n\n\n\n\n\n\n\n\n\n\nChild: Up to and including 13 years old.Junior: Up to and including 17 years old.Young Rider: 18 – 21 years old.Senior: 22 years or older.Masters: 50 years or older.For determining 2.1\, a competitor’s age is the age they will turn that year.i.e. if a competitor turns 22 on 24th Oct 2020 they will count as 22 years old for all competitions in 2020\, and must ride as a senior all year.It is permitted for an individual to move up an age grade if they wish\, but this decision would be applicable for the whole year.(This applies only for child\, junior and young rider\, not for senior to masters).Where a competitor’s age category is not contested at a given competition they should ride in the nearest age group above theirs. They should return to their normal age category at subsequent competitions.Where records are contested\, a rider’s age category counts as per 2.1 and 2.2.If an individual is competing “up an age grade” then it is possible for them to be awarded a record for their actual age group and/or for the age group they are competing in.Competitions for children will be run without timing rules. They must maintain the pace of canter or gallop\, but they will not receive any points or penalties for speed; only target points and multi-hit bonuses (where applicable) will determine their score.\n\n\n\n \n\n\n\n* Guidance on competitors nominating their age category (as per 2.3) will be published on the IHAA website
URL:https://bhaa.org.uk/event/junior-nationals-champions/
LOCATION:New Leaf Triangle\, Goadby Marwood\, Melton Mowbray\, LE14 4LP\, United Kingdom
ORGANIZER;CN="BHAA":MAILTO:britishhorsebackarchery@gmail.com
END:VEVENT
END:VCALENDAR